BEGIN:VCALENDAR
VERSION:2.0
PRODID:-//Leonard W. Kidd Memorial - ECPv6.15.20//NONSGML v1.0//EN
CALSCALE:GREGORIAN
METHOD:PUBLISH
X-ORIGINAL-URL:https://ashburnlegion.org
X-WR-CALDESC:Events for Leonard W. Kidd Memorial
REFRESH-INTERVAL;VALUE=DURATION:PT1H
X-Robots-Tag:noindex
X-PUBLISHED-TTL:PT1H
BEGIN:VTIMEZONE
TZID:America/New_York
BEGIN:DAYLIGHT
TZOFFSETFROM:-0500
TZOFFSETTO:-0400
TZNAME:EDT
DTSTART:20250309T070000
END:DAYLIGHT
BEGIN:STANDARD
TZOFFSETFROM:-0400
TZOFFSETTO:-0500
TZNAME:EST
DTSTART:20251102T060000
END:STANDARD
BEGIN:DAYLIGHT
TZOFFSETFROM:-0500
TZOFFSETTO:-0400
TZNAME:EDT
DTSTART:20260308T070000
END:DAYLIGHT
BEGIN:STANDARD
TZOFFSETFROM:-0400
TZOFFSETTO:-0500
TZNAME:EST
DTSTART:20261101T060000
END:STANDARD
BEGIN:DAYLIGHT
TZOFFSETFROM:-0500
TZOFFSETTO:-0400
TZNAME:EDT
DTSTART:20270314T070000
END:DAYLIGHT
BEGIN:STANDARD
TZOFFSETFROM:-0400
TZOFFSETTO:-0500
TZNAME:EST
DTSTART:20271107T060000
END:STANDARD
END:VTIMEZONE
BEGIN:VEVENT
DTSTART;TZID=America/New_York:20260506T100000
DTEND;TZID=America/New_York:20260506T110000
DTSTAMP:20260423T175039
CREATED:20260416T133707Z
LAST-MODIFIED:20260416T143333Z
UID:4516-1778061600-1778065200@ashburnlegion.org
SUMMARY:Veterans Coffee Social
DESCRIPTION:Join us for a free coffee and great company. All Veterans and families welcome. \n  \n1st Wednesday every month at 10:00 AM \nStarbucks 500 Compass Pt Plaza\, Leesburg\, VA 20175 \nCoffee socials are Veteran led and offered throughout the community. For more information contact Jennifer Kelley at: Jennifer.Kelley3@va.gov \nJoin Facebook Page: Veteran Coffee Social( Martinsburg VA Regional Area) \nShare this:\n				Share on Facebook (Opens in new window)\n				Facebook\n			\n				Share on X (Opens in new window)\n				X\n			\n				Share on LinkedIn (Opens in new window)\n				LinkedIn\n			\n				Print (Opens in new window)\n				Print
URL:https://ashburnlegion.org/event/veterans-coffee-social/
LOCATION:Starbucks\, 500 Compass Pt Plaza\, Leesburg\, VA\, 20175\, United States
CATEGORIES:American Legion
END:VEVENT
BEGIN:VEVENT
DTSTART;TZID=America/New_York:20260513T100000
DTEND;TZID=America/New_York:20260513T153000
DTSTAMP:20260423T175039
CREATED:20260420T152126Z
LAST-MODIFIED:20260420T152126Z
UID:4546-1778666400-1778686200@ashburnlegion.org
SUMMARY:FREE Pro Bono Legal Clinic Powers of Attorney & Simple Wills
DESCRIPTION:Wednesday\, May 13\, 2026 \nSession 1: 10:00 a.m. – 12:30 p.m. \nSession 2: 1:00 p.m. – 3:30 p.m. \nRust Library 380 Old Waterford Rd NW\, Leesburg\, VA 20176 \nAppointments Are Required \nThis clinic serves qualifying clients. Please contact LSNV’s intake to confirm your eligibility and schedule your appointment. \nLegal Services of Northern Virginia\nBy Phone: 703-778-6800 (Mon. – Thurs. 9:30 a.m. – noon; 1:30 p.m. – 3:00 p.m.)\nOnline: https://lsnv.org/get-help/how-do-i-apply/onlineapplication\nIn Person: Wednesdays only between 9:30 a.m. – noon; 1:30 p.m. – 4:00 p.m. at LSNV’s Loudoun County office located at 8A South Street\, SW\, Leesburg\, VA 20175 \nVolunteer attorneys will be available to assist you with basic estate planning documents completely free of charge. \nShare this:\n				Share on Facebook (Opens in new window)\n				Facebook\n			\n				Share on X (Opens in new window)\n				X\n			\n				Share on LinkedIn (Opens in new window)\n				LinkedIn\n			\n				Print (Opens in new window)\n				Print
URL:https://ashburnlegion.org/event/free-pro-bono-legal-clinic-powers-of-attorney-simple-wills/
LOCATION:Rust Liibrary\, 380 Old Waterford Rd NW\, Leesburg\, VA\, 20176\, United States
CATEGORIES:American Legion
END:VEVENT
BEGIN:VEVENT
DTSTART;TZID=America/New_York:20260514T190000
DTEND;TZID=America/New_York:20260514T200000
DTSTAMP:20260423T175039
CREATED:20260110T132241Z
LAST-MODIFIED:20260110T132241Z
UID:4293-1778785200-1778788800@ashburnlegion.org
SUMMARY:Monthly Meeting
DESCRIPTION:Share this:\n				Share on Facebook (Opens in new window)\n				Facebook\n			\n				Share on X (Opens in new window)\n				X\n			\n				Share on LinkedIn (Opens in new window)\n				LinkedIn\n			\n				Print (Opens in new window)\n				Print
URL:https://ashburnlegion.org/event/monthly-meeting-27/
LOCATION:Ashburn Volunteer Fire and Rescue Department (AVFRD)\, 20688 Ashburn Road\, Ashburn\, VA\, 20147\, United States
CATEGORIES:American Legion
END:VEVENT
END:VCALENDAR