BEGIN:VCALENDAR
VERSION:2.0
PRODID:-//Leonard W. Kidd Memorial - ECPv6.15.20//NONSGML v1.0//EN
CALSCALE:GREGORIAN
METHOD:PUBLISH
X-WR-CALNAME:Leonard W. Kidd Memorial
X-ORIGINAL-URL:https://ashburnlegion.org
X-WR-CALDESC:Events for Leonard W. Kidd Memorial
REFRESH-INTERVAL;VALUE=DURATION:PT1H
X-Robots-Tag:noindex
X-PUBLISHED-TTL:PT1H
BEGIN:VTIMEZONE
TZID:America/New_York
BEGIN:DAYLIGHT
TZOFFSETFROM:-0500
TZOFFSETTO:-0400
TZNAME:EDT
DTSTART:20240310T070000
END:DAYLIGHT
BEGIN:STANDARD
TZOFFSETFROM:-0400
TZOFFSETTO:-0500
TZNAME:EST
DTSTART:20241103T060000
END:STANDARD
BEGIN:DAYLIGHT
TZOFFSETFROM:-0500
TZOFFSETTO:-0400
TZNAME:EDT
DTSTART:20250309T070000
END:DAYLIGHT
BEGIN:STANDARD
TZOFFSETFROM:-0400
TZOFFSETTO:-0500
TZNAME:EST
DTSTART:20251102T060000
END:STANDARD
BEGIN:DAYLIGHT
TZOFFSETFROM:-0500
TZOFFSETTO:-0400
TZNAME:EDT
DTSTART:20260308T070000
END:DAYLIGHT
BEGIN:STANDARD
TZOFFSETFROM:-0400
TZOFFSETTO:-0500
TZNAME:EST
DTSTART:20261101T060000
END:STANDARD
END:VTIMEZONE
BEGIN:VEVENT
DTSTART;TZID=America/New_York:20250809T110000
DTEND;TZID=America/New_York:20250809T120000
DTSTAMP:20260424T074049
CREATED:20250709T010426Z
LAST-MODIFIED:20250709T010426Z
UID:3852-1754737200-1754740800@ashburnlegion.org
SUMMARY:16th District Planning Meeting
DESCRIPTION:The 16th District planning Meeting will be held on August 9th starting at 11:00. This year’s meeting is being hosted by American Legion Post 28 in Triangle Virginia.  17934 Liming Lane Triangle\, VA 22172.  \nShare this:\n				Share on Facebook (Opens in new window)\n				Facebook\n			\n				Share on X (Opens in new window)\n				X\n			\n				Share on LinkedIn (Opens in new window)\n				LinkedIn\n			\n				Print (Opens in new window)\n				Print
URL:https://ashburnlegion.org/event/16th-district-planning-meeting/
LOCATION:American Legion Post 28\, 17934 Liming Lane\, Triangle\, VA\, 22172\, United States
CATEGORIES:American Legion
END:VEVENT
END:VCALENDAR