BEGIN:VCALENDAR
VERSION:2.0
PRODID:-//Leonard W. Kidd Memorial - ECPv6.15.20//NONSGML v1.0//EN
CALSCALE:GREGORIAN
METHOD:PUBLISH
X-WR-CALNAME:Leonard W. Kidd Memorial
X-ORIGINAL-URL:https://ashburnlegion.org
X-WR-CALDESC:Events for Leonard W. Kidd Memorial
REFRESH-INTERVAL;VALUE=DURATION:PT1H
X-Robots-Tag:noindex
X-PUBLISHED-TTL:PT1H
BEGIN:VTIMEZONE
TZID:America/New_York
BEGIN:DAYLIGHT
TZOFFSETFROM:-0500
TZOFFSETTO:-0400
TZNAME:EDT
DTSTART:20250309T070000
END:DAYLIGHT
BEGIN:STANDARD
TZOFFSETFROM:-0400
TZOFFSETTO:-0500
TZNAME:EST
DTSTART:20251102T060000
END:STANDARD
BEGIN:DAYLIGHT
TZOFFSETFROM:-0500
TZOFFSETTO:-0400
TZNAME:EDT
DTSTART:20260308T070000
END:DAYLIGHT
BEGIN:STANDARD
TZOFFSETFROM:-0400
TZOFFSETTO:-0500
TZNAME:EST
DTSTART:20261101T060000
END:STANDARD
BEGIN:DAYLIGHT
TZOFFSETFROM:-0500
TZOFFSETTO:-0400
TZNAME:EDT
DTSTART:20270314T070000
END:DAYLIGHT
BEGIN:STANDARD
TZOFFSETFROM:-0400
TZOFFSETTO:-0500
TZNAME:EST
DTSTART:20271107T060000
END:STANDARD
END:VTIMEZONE
BEGIN:VEVENT
DTSTART;TZID=America/New_York:20260429T150000
DTEND;TZID=America/New_York:20260429T160000
DTSTAMP:20260423T174258
CREATED:20260217T155357Z
LAST-MODIFIED:20260217T155357Z
UID:4378-1777474800-1777478400@ashburnlegion.org
SUMMARY:The VA: Roadmap to Retirement (3PM ET)
DESCRIPTION:The VA: Roadmap to Retirement (3PM ET)\n\nOrganized by Prudential Pathways\n\nThis session outlines your journey on the Roadmap to Retirement and discusses actions that you should consider at particular ages to ensure you get the most out of your retirement.\n\nhttps://events.zoom.us/ev/AltGBK1TP4qXTATJ8tkX7TuvFSdY_BhO6iFcbW1XxqZeRp3SWD3I~Ak91kCID6G23DF-3RslC6wMq59P4_4MYDTcH4yUswXhmKKWCdH33WNb1cw\nShare this:\n				Share on Facebook (Opens in new window)\n				Facebook\n			\n				Share on X (Opens in new window)\n				X\n			\n				Share on LinkedIn (Opens in new window)\n				LinkedIn\n			\n				Print (Opens in new window)\n				Print
URL:https://ashburnlegion.org/event/the-va-roadmap-to-retirement-3pm-et/
LOCATION:VA
CATEGORIES:American Legion
END:VEVENT
END:VCALENDAR