BEGIN:VCALENDAR
VERSION:2.0
PRODID:-//Leonard W. Kidd Memorial - ECPv6.15.20//NONSGML v1.0//EN
CALSCALE:GREGORIAN
METHOD:PUBLISH
X-ORIGINAL-URL:https://ashburnlegion.org
X-WR-CALDESC:Events for Leonard W. Kidd Memorial
REFRESH-INTERVAL;VALUE=DURATION:PT1H
X-Robots-Tag:noindex
X-PUBLISHED-TTL:PT1H
BEGIN:VTIMEZONE
TZID:America/New_York
BEGIN:DAYLIGHT
TZOFFSETFROM:-0500
TZOFFSETTO:-0400
TZNAME:EDT
DTSTART:20250309T070000
END:DAYLIGHT
BEGIN:STANDARD
TZOFFSETFROM:-0400
TZOFFSETTO:-0500
TZNAME:EST
DTSTART:20251102T060000
END:STANDARD
BEGIN:DAYLIGHT
TZOFFSETFROM:-0500
TZOFFSETTO:-0400
TZNAME:EDT
DTSTART:20260308T070000
END:DAYLIGHT
BEGIN:STANDARD
TZOFFSETFROM:-0400
TZOFFSETTO:-0500
TZNAME:EST
DTSTART:20261101T060000
END:STANDARD
BEGIN:DAYLIGHT
TZOFFSETFROM:-0500
TZOFFSETTO:-0400
TZNAME:EDT
DTSTART:20270314T070000
END:DAYLIGHT
BEGIN:STANDARD
TZOFFSETFROM:-0400
TZOFFSETTO:-0500
TZNAME:EST
DTSTART:20271107T060000
END:STANDARD
END:VTIMEZONE
BEGIN:VEVENT
DTSTART;TZID=America/New_York:20260805T100000
DTEND;TZID=America/New_York:20260805T110000
DTSTAMP:20260425T124015
CREATED:20260416T143644Z
LAST-MODIFIED:20260416T143644Z
UID:4527-1785924000-1785927600@ashburnlegion.org
SUMMARY:Veterans Coffee Social
DESCRIPTION:Join us for a free coffee and great company. All Veterans and families welcome. \n  \n1st Wednesday every month at 10:00 AM \nStarbucks 500 Compass Pt Plaza\, Leesburg\, VA 20175 \nCoffee socials are Veteran led and offered throughout the community. For more information contact Jennifer Kelley at: Jennifer.Kelley3@va.gov \nJoin Facebook Page: Veteran Coffee Social( Martinsburg VA Regional Area) \nShare this:\n				Share on Facebook (Opens in new window)\n				Facebook\n			\n				Share on X (Opens in new window)\n				X\n			\n				Share on LinkedIn (Opens in new window)\n				LinkedIn\n			\n				Print (Opens in new window)\n				Print
URL:https://ashburnlegion.org/event/veterans-coffee-social-4/
CATEGORIES:American Legion
END:VEVENT
BEGIN:VEVENT
DTSTART;TZID=America/New_York:20260813T190000
DTEND;TZID=America/New_York:20260813T200000
DTSTAMP:20260425T124016
CREATED:20260110T132423Z
LAST-MODIFIED:20260110T132423Z
UID:4302-1786647600-1786651200@ashburnlegion.org
SUMMARY:Monthly Meeting
DESCRIPTION:Share this:\n				Share on Facebook (Opens in new window)\n				Facebook\n			\n				Share on X (Opens in new window)\n				X\n			\n				Share on LinkedIn (Opens in new window)\n				LinkedIn\n			\n				Print (Opens in new window)\n				Print
URL:https://ashburnlegion.org/event/monthly-meeting-30/
LOCATION:Ashburn Volunteer Fire and Rescue Department (AVFRD)\, 20688 Ashburn Road\, Ashburn\, VA\, 20147\, United States
CATEGORIES:American Legion
END:VEVENT
BEGIN:VEVENT
DTSTART;TZID=America/New_York:20260902T100000
DTEND;TZID=America/New_York:20260902T110000
DTSTAMP:20260425T124016
CREATED:20260416T143755Z
LAST-MODIFIED:20260416T143755Z
UID:4530-1788343200-1788346800@ashburnlegion.org
SUMMARY:Veterans Coffee Social
DESCRIPTION:Join us for a free coffee and great company. All Veterans and families welcome. \n  \n1st Wednesday every month at 10:00 AM \nStarbucks 500 Compass Pt Plaza\, Leesburg\, VA 20175 \nCoffee socials are Veteran led and offered throughout the community. For more information contact Jennifer Kelley at: Jennifer.Kelley3@va.gov \nJoin Facebook Page: Veteran Coffee Social( Martinsburg VA Regional Area) \nShare this:\n				Share on Facebook (Opens in new window)\n				Facebook\n			\n				Share on X (Opens in new window)\n				X\n			\n				Share on LinkedIn (Opens in new window)\n				LinkedIn\n			\n				Print (Opens in new window)\n				Print
URL:https://ashburnlegion.org/event/veterans-coffee-social-5/
LOCATION:Starbucks\, 500 Compass Pt Plaza\, Leesburg\, VA\, 20175\, United States
CATEGORIES:American Legion
END:VEVENT
BEGIN:VEVENT
DTSTART;TZID=America/New_York:20260910T190000
DTEND;TZID=America/New_York:20260910T200000
DTSTAMP:20260425T124016
CREATED:20260110T132453Z
LAST-MODIFIED:20260110T132453Z
UID:4305-1789066800-1789070400@ashburnlegion.org
SUMMARY:Monthly Meeting
DESCRIPTION:Share this:\n				Share on Facebook (Opens in new window)\n				Facebook\n			\n				Share on X (Opens in new window)\n				X\n			\n				Share on LinkedIn (Opens in new window)\n				LinkedIn\n			\n				Print (Opens in new window)\n				Print
URL:https://ashburnlegion.org/event/monthly-meeting-31/
LOCATION:Ashburn Volunteer Fire and Rescue Department (AVFRD)\, 20688 Ashburn Road\, Ashburn\, VA\, 20147\, United States
CATEGORIES:American Legion
END:VEVENT
BEGIN:VEVENT
DTSTART;TZID=America/New_York:20260912T080000
DTEND;TZID=America/New_York:20260912T170000
DTSTAMP:20260425T124016
CREATED:20260425T125914Z
LAST-MODIFIED:20260425T125914Z
UID:4558-1789200000-1789232400@ashburnlegion.org
SUMMARY:9th Annual Warrior Ride
DESCRIPTION:9th Annual Warrior Ride – Registration is OPEN!\nWe are thrilled to welcome NextPoint Group back as our presenting sponsor for this year’s ride hosted at The Farm Brewery at Broad Run. \nThe Mission: All proceeds provide cost-free retreat stays and non-medical services that aid in the recovery of our injured service members. \nNot a Cyclist? You can still help! Consider sponsoring a warrior rider\, volunteering\, or joining us at the brewery to cheer everyone on. \n\n\n\n\n\n\n\n\n\nWarrior Ride – Register\, Sponsor\, Donate\n\n\n\nShare this:\n				Share on Facebook (Opens in new window)\n				Facebook\n			\n				Share on X (Opens in new window)\n				X\n			\n				Share on LinkedIn (Opens in new window)\n				LinkedIn\n			\n				Print (Opens in new window)\n				Print
URL:https://ashburnlegion.org/event/9th-annual-warrior-ride/
LOCATION:The Farmer Brewery\, 16015 John Marshall Hwy\, Broad Run\, VA\, 20137\, United States
CATEGORIES:American Legion
END:VEVENT
BEGIN:VEVENT
DTSTART;TZID=America/New_York:20260926T170000
DTEND;TZID=America/New_York:20260926T210000
DTSTAMP:20260425T124016
CREATED:20260425T130106Z
LAST-MODIFIED:20260425T130106Z
UID:4562-1790442000-1790456400@ashburnlegion.org
SUMMARY:Willing Warriors Cocktail Gala
DESCRIPTION:Save the Date: Willing Warriors Cocktail Gala\nAn Evening Under the Same Stars that Guide our Warriors. \nWhen: September 26\, 2026 | 5 PM – 9 PM\nWhere: Warrior Retreat at Bull Run\, 16013 Waterfall Road\, Haymarket\, VA \nShare this:\n				Share on Facebook (Opens in new window)\n				Facebook\n			\n				Share on X (Opens in new window)\n				X\n			\n				Share on LinkedIn (Opens in new window)\n				LinkedIn\n			\n				Print (Opens in new window)\n				Print
URL:https://ashburnlegion.org/event/willing-warriors-cocktail-gala/
LOCATION:Warrior Retreat\, 16013 Waterfall Rd\, Haymarket\, VA\, 20169\, United States
CATEGORIES:American Legion
END:VEVENT
BEGIN:VEVENT
DTSTART;TZID=America/New_York:20261007T100000
DTEND;TZID=America/New_York:20261007T110000
DTSTAMP:20260425T124016
CREATED:20260416T143844Z
LAST-MODIFIED:20260416T143844Z
UID:4533-1791367200-1791370800@ashburnlegion.org
SUMMARY:Veterans Coffee Social
DESCRIPTION:Join us for a free coffee and great company. All Veterans and families welcome. \n  \n1st Wednesday every month at 10:00 AM \nStarbucks 500 Compass Pt Plaza\, Leesburg\, VA 20175 \nCoffee socials are Veteran led and offered throughout the community. For more information contact Jennifer Kelley at: Jennifer.Kelley3@va.gov \nJoin Facebook Page: Veteran Coffee Social( Martinsburg VA Regional Area) \nShare this:\n				Share on Facebook (Opens in new window)\n				Facebook\n			\n				Share on X (Opens in new window)\n				X\n			\n				Share on LinkedIn (Opens in new window)\n				LinkedIn\n			\n				Print (Opens in new window)\n				Print
URL:https://ashburnlegion.org/event/veterans-coffee-social-6/
LOCATION:Starbucks\, 500 Compass Pt Plaza\, Leesburg\, VA\, 20175\, United States
CATEGORIES:American Legion
END:VEVENT
BEGIN:VEVENT
DTSTART;TZID=America/New_York:20261008T190000
DTEND;TZID=America/New_York:20261008T200000
DTSTAMP:20260425T124016
CREATED:20260110T132524Z
LAST-MODIFIED:20260110T132524Z
UID:4308-1791486000-1791489600@ashburnlegion.org
SUMMARY:Monthly Meeting
DESCRIPTION:Share this:\n				Share on Facebook (Opens in new window)\n				Facebook\n			\n				Share on X (Opens in new window)\n				X\n			\n				Share on LinkedIn (Opens in new window)\n				LinkedIn\n			\n				Print (Opens in new window)\n				Print
URL:https://ashburnlegion.org/event/monthly-meeting-32/
LOCATION:Ashburn Volunteer Fire and Rescue Department (AVFRD)\, 20688 Ashburn Road\, Ashburn\, VA\, 20147\, United States
CATEGORIES:American Legion
END:VEVENT
BEGIN:VEVENT
DTSTART;TZID=America/New_York:20261104T100000
DTEND;TZID=America/New_York:20261104T110000
DTSTAMP:20260425T124016
CREATED:20260416T143939Z
LAST-MODIFIED:20260416T143939Z
UID:4536-1793786400-1793790000@ashburnlegion.org
SUMMARY:Veterans Coffee Social
DESCRIPTION:Join us for a free coffee and great company. All Veterans and families welcome. \n  \n1st Wednesday every month at 10:00 AM \nStarbucks 500 Compass Pt Plaza\, Leesburg\, VA 20175 \nCoffee socials are Veteran led and offered throughout the community. For more information contact Jennifer Kelley at: Jennifer.Kelley3@va.gov \nJoin Facebook Page: Veteran Coffee Social( Martinsburg VA Regional Area) \nShare this:\n				Share on Facebook (Opens in new window)\n				Facebook\n			\n				Share on X (Opens in new window)\n				X\n			\n				Share on LinkedIn (Opens in new window)\n				LinkedIn\n			\n				Print (Opens in new window)\n				Print
URL:https://ashburnlegion.org/event/veterans-coffee-social-7/
LOCATION:Starbucks\, 500 Compass Pt Plaza\, Leesburg\, VA\, 20175\, United States
CATEGORIES:American Legion
END:VEVENT
BEGIN:VEVENT
DTSTART;TZID=America/New_York:20261112T190000
DTEND;TZID=America/New_York:20261112T200000
DTSTAMP:20260425T124016
CREATED:20260110T132600Z
LAST-MODIFIED:20260110T132600Z
UID:4311-1794510000-1794513600@ashburnlegion.org
SUMMARY:Monthly Meeting
DESCRIPTION:Share this:\n				Share on Facebook (Opens in new window)\n				Facebook\n			\n				Share on X (Opens in new window)\n				X\n			\n				Share on LinkedIn (Opens in new window)\n				LinkedIn\n			\n				Print (Opens in new window)\n				Print
URL:https://ashburnlegion.org/event/monthly-meeting-33/
LOCATION:Ashburn Volunteer Fire and Rescue Department (AVFRD)\, 20688 Ashburn Road\, Ashburn\, VA\, 20147\, United States
CATEGORIES:American Legion
END:VEVENT
BEGIN:VEVENT
DTSTART;TZID=America/New_York:20261202T100000
DTEND;TZID=America/New_York:20261202T110000
DTSTAMP:20260425T124016
CREATED:20260416T144020Z
LAST-MODIFIED:20260416T144020Z
UID:4539-1796205600-1796209200@ashburnlegion.org
SUMMARY:Veterans Coffee Social
DESCRIPTION:Join us for a free coffee and great company. All Veterans and families welcome. \n  \n1st Wednesday every month at 10:00 AM \nStarbucks 500 Compass Pt Plaza\, Leesburg\, VA 20175 \nCoffee socials are Veteran led and offered throughout the community. For more information contact Jennifer Kelley at: Jennifer.Kelley3@va.gov \nJoin Facebook Page: Veteran Coffee Social( Martinsburg VA Regional Area) \nShare this:\n				Share on Facebook (Opens in new window)\n				Facebook\n			\n				Share on X (Opens in new window)\n				X\n			\n				Share on LinkedIn (Opens in new window)\n				LinkedIn\n			\n				Print (Opens in new window)\n				Print
URL:https://ashburnlegion.org/event/veterans-coffee-social-8/
LOCATION:Starbucks\, 500 Compass Pt Plaza\, Leesburg\, VA\, 20175\, United States
CATEGORIES:American Legion
END:VEVENT
BEGIN:VEVENT
DTSTART;TZID=America/New_York:20261210T190000
DTEND;TZID=America/New_York:20261210T200000
DTSTAMP:20260425T124016
CREATED:20260110T132630Z
LAST-MODIFIED:20260303T231505Z
UID:4314-1796929200-1796932800@ashburnlegion.org
SUMMARY:Monthly Meeting
DESCRIPTION:Share this:\n				Share on Facebook (Opens in new window)\n				Facebook\n			\n				Share on X (Opens in new window)\n				X\n			\n				Share on LinkedIn (Opens in new window)\n				LinkedIn\n			\n				Print (Opens in new window)\n				Print
URL:https://ashburnlegion.org/event/monthly-meeting-34/
LOCATION:Ashburn Volunteer Fire and Rescue Department (AVFRD)\, 20688 Ashburn Road\, Ashburn\, VA\, 20147\, United States
CATEGORIES:American Legion
END:VEVENT
END:VCALENDAR